BEGIN:VCALENDAR
VERSION:2.0
PRODID:-//Reading Mencap - ECPv6.15.20//NONSGML v1.0//EN
CALSCALE:GREGORIAN
METHOD:PUBLISH
X-ORIGINAL-URL:https://www.readingmencap.org.uk
X-WR-CALDESC:Events for Reading Mencap
REFRESH-INTERVAL;VALUE=DURATION:PT1H
X-Robots-Tag:noindex
X-PUBLISHED-TTL:PT1H
BEGIN:VTIMEZONE
TZID:Europe/London
BEGIN:DAYLIGHT
TZOFFSETFROM:+0000
TZOFFSETTO:+0100
TZNAME:BST
DTSTART:20240331T010000
END:DAYLIGHT
BEGIN:STANDARD
TZOFFSETFROM:+0100
TZOFFSETTO:+0000
TZNAME:GMT
DTSTART:20241027T010000
END:STANDARD
BEGIN:DAYLIGHT
TZOFFSETFROM:+0000
TZOFFSETTO:+0100
TZNAME:BST
DTSTART:20250330T010000
END:DAYLIGHT
BEGIN:STANDARD
TZOFFSETFROM:+0100
TZOFFSETTO:+0000
TZNAME:GMT
DTSTART:20251026T010000
END:STANDARD
BEGIN:DAYLIGHT
TZOFFSETFROM:+0000
TZOFFSETTO:+0100
TZNAME:BST
DTSTART:20260329T010000
END:DAYLIGHT
BEGIN:STANDARD
TZOFFSETFROM:+0100
TZOFFSETTO:+0000
TZNAME:GMT
DTSTART:20261025T010000
END:STANDARD
END:VTIMEZONE
BEGIN:VEVENT
DTSTART;TZID=Europe/London:20250925T193000
DTEND;TZID=Europe/London:20250925T213000
DTSTAMP:20260423T013259
CREATED:20250801T133635Z
LAST-MODIFIED:20250801T133635Z
UID:3959-1758828600-1758835800@www.readingmencap.org.uk
SUMMARY:Disco
DESCRIPTION:Dress up to impress at our popular monthly disco for adults with a learning disability! \nThere’s lights\, action and great music and we’d love you to request your favourite songs and join in with the karaoke. \nPrice is £3. Refreshments included. \nIf you would like more information\, or to attend the disco\, please call 0118 966 2518 or email office@readingmencap.org.uk. \n 
URL:https://www.readingmencap.org.uk/event/disco-7/
LOCATION:21 Alexandra Road\, Reading\, RG1 5PE\, United Kingdom
ATTACH;FMTTYPE=image/jpeg:https://www.readingmencap.org.uk/learning-disability-charity-img/monthly-disco-1.jpg
END:VEVENT
END:VCALENDAR