BEGIN:VCALENDAR
VERSION:2.0
PRODID:-//Reading Mencap - ECPv6.15.20//NONSGML v1.0//EN
CALSCALE:GREGORIAN
METHOD:PUBLISH
X-ORIGINAL-URL:https://www.readingmencap.org.uk
X-WR-CALDESC:Events for Reading Mencap
REFRESH-INTERVAL;VALUE=DURATION:PT1H
X-Robots-Tag:noindex
X-PUBLISHED-TTL:PT1H
BEGIN:VTIMEZONE
TZID:Europe/London
BEGIN:DAYLIGHT
TZOFFSETFROM:+0000
TZOFFSETTO:+0100
TZNAME:BST
DTSTART:20240331T010000
END:DAYLIGHT
BEGIN:STANDARD
TZOFFSETFROM:+0100
TZOFFSETTO:+0000
TZNAME:GMT
DTSTART:20241027T010000
END:STANDARD
BEGIN:DAYLIGHT
TZOFFSETFROM:+0000
TZOFFSETTO:+0100
TZNAME:BST
DTSTART:20250330T010000
END:DAYLIGHT
BEGIN:STANDARD
TZOFFSETFROM:+0100
TZOFFSETTO:+0000
TZNAME:GMT
DTSTART:20251026T010000
END:STANDARD
BEGIN:DAYLIGHT
TZOFFSETFROM:+0000
TZOFFSETTO:+0100
TZNAME:BST
DTSTART:20260329T010000
END:DAYLIGHT
BEGIN:STANDARD
TZOFFSETFROM:+0100
TZOFFSETTO:+0000
TZNAME:GMT
DTSTART:20261025T010000
END:STANDARD
END:VTIMEZONE
BEGIN:VEVENT
DTSTART;TZID=Europe/London:20251203T193000
DTEND;TZID=Europe/London:20251203T220000
DTSTAMP:20260422T211431
CREATED:20250926T092409Z
LAST-MODIFIED:20250926T094826Z
UID:4096-1764790200-1764799200@www.readingmencap.org.uk
SUMMARY:Christmas Disco
DESCRIPTION:Don’t miss the Reading Mencap Christmas Disco for adults with a learning disability and their family and carers! \n£10 per person (includes 1 carer/family member). \nExtra carers/family members £5 per person. Ticket includes a Christmas gift for the adult with a learning disability. \nDate: Wednesday 3 December 2025 \nTime: 7.30-10pm \nVenue: Earley Home Guard Social Club\, Pitts Lane\, Reading RG6 1BT. \nLive DJ\, food and raffle. Please bring money for drinks and raffle tickets (£1 a strip). \nYou can buy tickets online or bring cash into the Reading Mencap office. \nPlease contact us if you need help with transport or have any questions: 0118 966 2518.
URL:https://www.readingmencap.org.uk/event/christmas-disco-4/
LOCATION:Earley Home Guard Social Club\, Pitts Lane\, Earley\, Reading\, Berkshire\, RG6 1BT\, United Kingdom
ATTACH;FMTTYPE=image/jpeg:https://www.readingmencap.org.uk/learning-disability-charity-img/christmas-disco.jpg
END:VEVENT
END:VCALENDAR