BEGIN:VCALENDAR
VERSION:2.0
PRODID:-//Reading Mencap - ECPv6.15.20//NONSGML v1.0//EN
CALSCALE:GREGORIAN
METHOD:PUBLISH
X-ORIGINAL-URL:https://www.readingmencap.org.uk
X-WR-CALDESC:Events for Reading Mencap
REFRESH-INTERVAL;VALUE=DURATION:PT1H
X-Robots-Tag:noindex
X-PUBLISHED-TTL:PT1H
BEGIN:VTIMEZONE
TZID:Europe/London
BEGIN:DAYLIGHT
TZOFFSETFROM:+0000
TZOFFSETTO:+0100
TZNAME:BST
DTSTART:20230326T010000
END:DAYLIGHT
BEGIN:STANDARD
TZOFFSETFROM:+0100
TZOFFSETTO:+0000
TZNAME:GMT
DTSTART:20231029T010000
END:STANDARD
BEGIN:DAYLIGHT
TZOFFSETFROM:+0000
TZOFFSETTO:+0100
TZNAME:BST
DTSTART:20240331T010000
END:DAYLIGHT
BEGIN:STANDARD
TZOFFSETFROM:+0100
TZOFFSETTO:+0000
TZNAME:GMT
DTSTART:20241027T010000
END:STANDARD
BEGIN:DAYLIGHT
TZOFFSETFROM:+0000
TZOFFSETTO:+0100
TZNAME:BST
DTSTART:20250330T010000
END:DAYLIGHT
BEGIN:STANDARD
TZOFFSETFROM:+0100
TZOFFSETTO:+0000
TZNAME:GMT
DTSTART:20251026T010000
END:STANDARD
END:VTIMEZONE
BEGIN:VEVENT
DTSTART;TZID=Europe/London:20241015T191500
DTEND;TZID=Europe/London:20241015T211500
DTSTAMP:20260422T160541
CREATED:20241008T150156Z
LAST-MODIFIED:20241008T150156Z
UID:3391-1729019700-1729026900@www.readingmencap.org.uk
SUMMARY:Gateway Club
DESCRIPTION:It’s Karaoke at tonight’s Gateway Club\, a friendly\, lively social club for adults with a learning disability. It meets on a Tuesday evening and gives members the chance to try new activities in a friendly\, supportive environment. \nActivities are chosen by the people who attend Gateway Club. Indoor activities\, which take place at our centre in Alexandra Road\, Reading include cooking\, art and crafts\, watching movies and indoor sports – playing pool is a favourite. \nGateway Club meets on a Tuesday evening from 7.15pm – 9.15pm. The cost is £3 per session. \nIf you would like more information or to attend Gateway Club\, please call 0118 966 2518 or email office@readingmencap.org.uk.
URL:https://www.readingmencap.org.uk/event/gateway-club-22/
LOCATION:21 Alexandra Road\, Reading\, RG1 5PE\, United Kingdom
CATEGORIES:Carers
ATTACH;FMTTYPE=image/jpeg:https://www.readingmencap.org.uk/learning-disability-charity-img/IMG_9318.jpg
END:VEVENT
BEGIN:VEVENT
DTSTART;TZID=Europe/London:20241017T100000
DTEND;TZID=Europe/London:20241017T123000
DTSTAMP:20260422T160541
CREATED:20241003T131441Z
LAST-MODIFIED:20241003T132358Z
UID:3374-1729159200-1729168200@www.readingmencap.org.uk
SUMMARY:Get Together for Carers
DESCRIPTION:Pop along for a cuppa and a chat at a new monthly get together for carers. \n\nMeet other people in similar circumstances\nGet high quality information and advice\nFriendly\, safe environment to talk openly\n\nSubsequent meetings are 21 November and 19 December. \nAll carers – not just learning disability – are welcome. Simply drop in. Refreshments provided. Abbey Baptist Church is behind Reading Central Library.
URL:https://www.readingmencap.org.uk/event/get-together-for-carers/
LOCATION:Abbey Baptist Church\, Abbey Square\, Reading\, RG1 3BE\, United Kingdom
CATEGORIES:Carers
ATTACH;FMTTYPE=image/jpeg:https://www.readingmencap.org.uk/learning-disability-charity-img/iStock-1919732890.jpg
END:VEVENT
END:VCALENDAR