BEGIN:VCALENDAR
VERSION:2.0
PRODID:-//Reading Mencap - ECPv6.15.20//NONSGML v1.0//EN
CALSCALE:GREGORIAN
METHOD:PUBLISH
X-WR-CALNAME:Reading Mencap
X-ORIGINAL-URL:https://www.readingmencap.org.uk
X-WR-CALDESC:Events for Reading Mencap
REFRESH-INTERVAL;VALUE=DURATION:PT1H
X-Robots-Tag:noindex
X-PUBLISHED-TTL:PT1H
BEGIN:VTIMEZONE
TZID:Europe/London
BEGIN:DAYLIGHT
TZOFFSETFROM:+0000
TZOFFSETTO:+0100
TZNAME:BST
DTSTART:20240331T010000
END:DAYLIGHT
BEGIN:STANDARD
TZOFFSETFROM:+0100
TZOFFSETTO:+0000
TZNAME:GMT
DTSTART:20241027T010000
END:STANDARD
BEGIN:DAYLIGHT
TZOFFSETFROM:+0000
TZOFFSETTO:+0100
TZNAME:BST
DTSTART:20250330T010000
END:DAYLIGHT
BEGIN:STANDARD
TZOFFSETFROM:+0100
TZOFFSETTO:+0000
TZNAME:GMT
DTSTART:20251026T010000
END:STANDARD
BEGIN:DAYLIGHT
TZOFFSETFROM:+0000
TZOFFSETTO:+0100
TZNAME:BST
DTSTART:20260329T010000
END:DAYLIGHT
BEGIN:STANDARD
TZOFFSETFROM:+0100
TZOFFSETTO:+0000
TZNAME:GMT
DTSTART:20261025T010000
END:STANDARD
END:VTIMEZONE
BEGIN:VEVENT
DTSTART;TZID=Europe/London:20250610T103000
DTEND;TZID=Europe/London:20250610T140000
DTSTAMP:20260422T034303
CREATED:20250522T122150Z
LAST-MODIFIED:20250522T122150Z
UID:3694-1749551400-1749564000@www.readingmencap.org.uk
SUMMARY:Information Fair
DESCRIPTION:Pop along to find out more about local activities and support available to help you in your caring role. \nGet a free health check from NHS\, who will check your height\, weight\, blood pressure\, cholesterol and wellbeing. \nStands include: \n\nCommuniCare\nAge UK Berkshire\nAge UK Reading\nReading Mencap\nReading Families’ Forum\nAdult Social Care\nDebt Advice\nEnergy Safety Advice\nFree Health Checks
URL:https://www.readingmencap.org.uk/event/information-fair/
LOCATION:Broad Street Mall\, Reading\, RG1 7QF
CATEGORIES:Carers
ATTACH;FMTTYPE=image/jpeg:https://www.readingmencap.org.uk/learning-disability-charity-img/carers-week-logo.jpg
END:VEVENT
BEGIN:VEVENT
DTSTART;TZID=Europe/London:20250612T103000
DTEND;TZID=Europe/London:20250612T133000
DTSTAMP:20260422T034303
CREATED:20250522T120439Z
LAST-MODIFIED:20250522T120439Z
UID:3691-1749724200-1749735000@www.readingmencap.org.uk
SUMMARY:Make a Pinch Pot Workshop
DESCRIPTION:Join our relaxed and friendly workshop designed especially for unpaid carers and craft something unique out of clay \nFree to carers. All materials and a light lunch provided. \nBooking essential\, please call 0118 966 2518 or email carers@readingmencap.org.uk
URL:https://www.readingmencap.org.uk/event/make-a-pinch-pot-workshop/
LOCATION:Museum of English Rural Life\, 6 Redlands Road\, Reading\, RG1 5EX
CATEGORIES:Carers
ATTACH;FMTTYPE=image/jpeg:https://www.readingmencap.org.uk/learning-disability-charity-img/hand-holding-clay.jpg
END:VEVENT
END:VCALENDAR