BEGIN:VCALENDAR
VERSION:2.0
PRODID:-//Reading Mencap - ECPv6.15.20//NONSGML v1.0//EN
CALSCALE:GREGORIAN
METHOD:PUBLISH
X-WR-CALNAME:Reading Mencap
X-ORIGINAL-URL:https://www.readingmencap.org.uk
X-WR-CALDESC:Events for Reading Mencap
REFRESH-INTERVAL;VALUE=DURATION:PT1H
X-Robots-Tag:noindex
X-PUBLISHED-TTL:PT1H
BEGIN:VTIMEZONE
TZID:Europe/London
BEGIN:DAYLIGHT
TZOFFSETFROM:+0000
TZOFFSETTO:+0100
TZNAME:BST
DTSTART:20240331T010000
END:DAYLIGHT
BEGIN:STANDARD
TZOFFSETFROM:+0100
TZOFFSETTO:+0000
TZNAME:GMT
DTSTART:20241027T010000
END:STANDARD
BEGIN:DAYLIGHT
TZOFFSETFROM:+0000
TZOFFSETTO:+0100
TZNAME:BST
DTSTART:20250330T010000
END:DAYLIGHT
BEGIN:STANDARD
TZOFFSETFROM:+0100
TZOFFSETTO:+0000
TZNAME:GMT
DTSTART:20251026T010000
END:STANDARD
BEGIN:DAYLIGHT
TZOFFSETFROM:+0000
TZOFFSETTO:+0100
TZNAME:BST
DTSTART:20260329T010000
END:DAYLIGHT
BEGIN:STANDARD
TZOFFSETFROM:+0100
TZOFFSETTO:+0000
TZNAME:GMT
DTSTART:20261025T010000
END:STANDARD
END:VTIMEZONE
BEGIN:VEVENT
DTSTART;TZID=Europe/London:20250821T103000
DTEND;TZID=Europe/London:20250821T123000
DTSTAMP:20260422T001347
CREATED:20250502T103222Z
LAST-MODIFIED:20250502T103222Z
UID:3678-1755772200-1755779400@www.readingmencap.org.uk
SUMMARY:Carers Get Together
DESCRIPTION:Are you looking after someone who cannot manage without your help? \nJoin the Carers Partnership at one of our monthly get togethers and take some time out for yourself. \n\nEnjoy a cuppa and a chat with people in a similar situation\nGet information and advice\nFriendly\, safe space to talk openly\n\nAll carers welcome – not just learning disability. Refreshments are on us! \nGet togethers will be held on the 3rd Thursday of the month at the Atrium Coffee Shop\, Greyfriars Church\, Friar Street\, Reading RG1 1EH from 10.30am – 12.30pm. \nNo need to book\, simply drop in. \nContact: Lesley on 0118 966 2518 or email carers@readingmencap.org.uk
URL:https://www.readingmencap.org.uk/event/carers-get-together-8/
LOCATION:Atrium Coffee Shop\, Greyfriars Church\, Friar Street\, Reading\, RG1 1EH\, United Kingdom
CATEGORIES:Carers
ATTACH;FMTTYPE=image/jpeg:https://www.readingmencap.org.uk/learning-disability-charity-img/carers-get-together.jpg
END:VEVENT
END:VCALENDAR