BEGIN:VCALENDAR
VERSION:2.0
PRODID:-//Reading Mencap - ECPv6.15.20//NONSGML v1.0//EN
CALSCALE:GREGORIAN
METHOD:PUBLISH
X-WR-CALNAME:Reading Mencap
X-ORIGINAL-URL:https://www.readingmencap.org.uk
X-WR-CALDESC:Events for Reading Mencap
REFRESH-INTERVAL;VALUE=DURATION:PT1H
X-Robots-Tag:noindex
X-PUBLISHED-TTL:PT1H
BEGIN:VTIMEZONE
TZID:Europe/London
BEGIN:DAYLIGHT
TZOFFSETFROM:+0000
TZOFFSETTO:+0100
TZNAME:BST
DTSTART:20220327T010000
END:DAYLIGHT
BEGIN:STANDARD
TZOFFSETFROM:+0100
TZOFFSETTO:+0000
TZNAME:GMT
DTSTART:20221030T010000
END:STANDARD
BEGIN:DAYLIGHT
TZOFFSETFROM:+0000
TZOFFSETTO:+0100
TZNAME:BST
DTSTART:20230326T010000
END:DAYLIGHT
BEGIN:STANDARD
TZOFFSETFROM:+0100
TZOFFSETTO:+0000
TZNAME:GMT
DTSTART:20231029T010000
END:STANDARD
BEGIN:DAYLIGHT
TZOFFSETFROM:+0000
TZOFFSETTO:+0100
TZNAME:BST
DTSTART:20240331T010000
END:DAYLIGHT
BEGIN:STANDARD
TZOFFSETFROM:+0100
TZOFFSETTO:+0000
TZNAME:GMT
DTSTART:20241027T010000
END:STANDARD
END:VTIMEZONE
BEGIN:VEVENT
DTSTART;TZID=Europe/London:20231123T110000
DTEND;TZID=Europe/London:20231123T140000
DTSTAMP:20260423T085044
CREATED:20231103T105954Z
LAST-MODIFIED:20231103T110411Z
UID:2705-1700737200-1700748000@www.readingmencap.org.uk
SUMMARY:Learn how to make a festive wreath
DESCRIPTION:Get creative\, have fun and make something really personal for your home at our Christmas wreath making workshop. \nFree to carers of people with learning disabilities\, florist Sarah Keen will take you through every step in creating your own handmade and personalised wreath. \nAll materials and high quality\, fresh seasonal foliage will be provided. \nYou are very welcome to bring along any of your own favourite decorations or accessories you would like to incorporate into your wreath. \nA light buffet lunch will be provided. Please advise of any dietary requirements. \nBooking essential. Please call 0118 926 3600 or email carers@readingmencap.org.uk to book your place. \nNumbers are limited so if the workshop is overbooked we will pull names out of a hat.
URL:https://www.readingmencap.org.uk/event/learn-how-to-make-a-festive-wreath/
LOCATION:Brock Barracks\, Oxford Road\, Readnig\, Berkshire\, RG30 1HW\, United Kingdom
CATEGORIES:Carers
END:VEVENT
END:VCALENDAR