BEGIN:VCALENDAR
VERSION:2.0
PRODID:-//Reading Mencap - ECPv6.15.20//NONSGML v1.0//EN
CALSCALE:GREGORIAN
METHOD:PUBLISH
X-ORIGINAL-URL:https://www.readingmencap.org.uk
X-WR-CALDESC:Events for Reading Mencap
REFRESH-INTERVAL;VALUE=DURATION:PT1H
X-Robots-Tag:noindex
X-PUBLISHED-TTL:PT1H
BEGIN:VTIMEZONE
TZID:Europe/London
BEGIN:DAYLIGHT
TZOFFSETFROM:+0000
TZOFFSETTO:+0100
TZNAME:BST
DTSTART:20230326T010000
END:DAYLIGHT
BEGIN:STANDARD
TZOFFSETFROM:+0100
TZOFFSETTO:+0000
TZNAME:GMT
DTSTART:20231029T010000
END:STANDARD
BEGIN:DAYLIGHT
TZOFFSETFROM:+0000
TZOFFSETTO:+0100
TZNAME:BST
DTSTART:20240331T010000
END:DAYLIGHT
BEGIN:STANDARD
TZOFFSETFROM:+0100
TZOFFSETTO:+0000
TZNAME:GMT
DTSTART:20241027T010000
END:STANDARD
BEGIN:DAYLIGHT
TZOFFSETFROM:+0000
TZOFFSETTO:+0100
TZNAME:BST
DTSTART:20250330T010000
END:DAYLIGHT
BEGIN:STANDARD
TZOFFSETFROM:+0100
TZOFFSETTO:+0000
TZNAME:GMT
DTSTART:20251026T010000
END:STANDARD
END:VTIMEZONE
BEGIN:VEVENT
DTSTART;TZID=Europe/London:20240611T100000
DTEND;TZID=Europe/London:20240611T150000
DTSTAMP:20260422T233028
CREATED:20240517T093603Z
LAST-MODIFIED:20240517T095206Z
UID:3073-1718100000-1718118000@www.readingmencap.org.uk
SUMMARY:Carers Week Information & Advice Session
DESCRIPTION:It’s Carers Week! Pop along to find out about support services to help you in your caring role and meet PEET (Patient Experience Engagement Team) in the NHS Health Bus\, which will be parked outside Marks & Spencer in Reading town centre. \nOrganisations in attendance include: \n\nReading Mencap\nAlafia\nCommuniCare\nReading Welfare Rights\nCompass Recovery College\n\nNo need to book.
URL:https://www.readingmencap.org.uk/event/carers-week-information-advice-session/
LOCATION:Broad Street\, Reading\, RG1 2BH
CATEGORIES:Carers
END:VEVENT
END:VCALENDAR