BEGIN:VCALENDAR
VERSION:2.0
PRODID:-//Reading Mencap - ECPv6.15.20//NONSGML v1.0//EN
CALSCALE:GREGORIAN
METHOD:PUBLISH
X-ORIGINAL-URL:https://www.readingmencap.org.uk
X-WR-CALDESC:Events for Reading Mencap
REFRESH-INTERVAL;VALUE=DURATION:PT1H
X-Robots-Tag:noindex
X-PUBLISHED-TTL:PT1H
BEGIN:VTIMEZONE
TZID:Europe/London
BEGIN:DAYLIGHT
TZOFFSETFROM:+0000
TZOFFSETTO:+0100
TZNAME:BST
DTSTART:20240331T010000
END:DAYLIGHT
BEGIN:STANDARD
TZOFFSETFROM:+0100
TZOFFSETTO:+0000
TZNAME:GMT
DTSTART:20241027T010000
END:STANDARD
BEGIN:DAYLIGHT
TZOFFSETFROM:+0000
TZOFFSETTO:+0100
TZNAME:BST
DTSTART:20250330T010000
END:DAYLIGHT
BEGIN:STANDARD
TZOFFSETFROM:+0100
TZOFFSETTO:+0000
TZNAME:GMT
DTSTART:20251026T010000
END:STANDARD
BEGIN:DAYLIGHT
TZOFFSETFROM:+0000
TZOFFSETTO:+0100
TZNAME:BST
DTSTART:20260329T010000
END:DAYLIGHT
BEGIN:STANDARD
TZOFFSETFROM:+0100
TZOFFSETTO:+0000
TZNAME:GMT
DTSTART:20261025T010000
END:STANDARD
END:VTIMEZONE
BEGIN:VEVENT
DTSTART;TZID=Europe/London:20250909T191500
DTEND;TZID=Europe/London:20250909T211500
DTSTAMP:20260420T064028
CREATED:20250627T140906Z
LAST-MODIFIED:20250708T104051Z
UID:3770-1757445300-1757452500@www.readingmencap.org.uk
SUMMARY:Planning Session for Gateway Club
DESCRIPTION:Gateway Club is back after the summer break with a planning session. \nGateway Club is a friendly\, lively social club for adults with a learning disability. It meets on a Tuesday evening and gives members the chance to try new activities in a friendly\, supportive environment. \nActivities are chosen by the people who attend Gateway Club. Indoor activities\, which take place at our centre in Alexandra Road\, Reading include cooking\, art and crafts\, watching movies and indoor sports – playing pool is a favourite. \nThe club also gets out and about and enjoys trips to the pub\, bowling and rounders in the park. \nGateway Club meets on a Tuesday evening from 7.15pm – 9.15pm. The cost is £3 per session. \nIf you would like more information or to attend Gateway Club\, please call 0118 966 2518 or email office@readingmencap.org.uk.
URL:https://www.readingmencap.org.uk/event/planning-session-for-gateway-club-2/
LOCATION:21 Alexandra Road\, Reading\, RG1 5PE\, United Kingdom
CATEGORIES:Learning Disability
END:VEVENT
END:VCALENDAR