BEGIN:VCALENDAR
VERSION:2.0
PRODID:-//Reading Mencap - ECPv6.15.20//NONSGML v1.0//EN
CALSCALE:GREGORIAN
METHOD:PUBLISH
X-WR-CALNAME:Reading Mencap
X-ORIGINAL-URL:https://www.readingmencap.org.uk
X-WR-CALDESC:Events for Reading Mencap
REFRESH-INTERVAL;VALUE=DURATION:PT1H
X-Robots-Tag:noindex
X-PUBLISHED-TTL:PT1H
BEGIN:VTIMEZONE
TZID:Europe/London
BEGIN:DAYLIGHT
TZOFFSETFROM:+0000
TZOFFSETTO:+0100
TZNAME:BST
DTSTART:20210328T010000
END:DAYLIGHT
BEGIN:STANDARD
TZOFFSETFROM:+0100
TZOFFSETTO:+0000
TZNAME:GMT
DTSTART:20211031T010000
END:STANDARD
BEGIN:DAYLIGHT
TZOFFSETFROM:+0000
TZOFFSETTO:+0100
TZNAME:BST
DTSTART:20220327T010000
END:DAYLIGHT
BEGIN:STANDARD
TZOFFSETFROM:+0100
TZOFFSETTO:+0000
TZNAME:GMT
DTSTART:20221030T010000
END:STANDARD
BEGIN:DAYLIGHT
TZOFFSETFROM:+0000
TZOFFSETTO:+0100
TZNAME:BST
DTSTART:20230326T010000
END:DAYLIGHT
BEGIN:STANDARD
TZOFFSETFROM:+0100
TZOFFSETTO:+0000
TZNAME:GMT
DTSTART:20231029T010000
END:STANDARD
BEGIN:DAYLIGHT
TZOFFSETFROM:+0000
TZOFFSETTO:+0100
TZNAME:BST
DTSTART:20240331T010000
END:DAYLIGHT
BEGIN:STANDARD
TZOFFSETFROM:+0100
TZOFFSETTO:+0000
TZNAME:GMT
DTSTART:20241027T010000
END:STANDARD
END:VTIMEZONE
BEGIN:VEVENT
DTSTART;TZID=Europe/London:20230622T203000
DTEND;TZID=Europe/London:20230622T220000
DTSTAMP:20260419T210533
CREATED:20230530T094153Z
LAST-MODIFIED:20230530T094153Z
UID:2209-1687465800-1687471200@www.readingmencap.org.uk
SUMMARY:Performing Arts Club
DESCRIPTION:Performing Arts Club is a lively club\, where members get the chance to sing\, make music and act. £3 per session. \nIf you are interested in joining Performing Arts Club\, please call 0118 966 2518 or email office@readingmencap.org.uk
URL:https://www.readingmencap.org.uk/event/performing-arts-club-11/
LOCATION:21 Alexandra Road\, Reading\, RG1 5PE\, United Kingdom
END:VEVENT
BEGIN:VEVENT
DTSTART;TZID=Europe/London:20230615T203000
DTEND;TZID=Europe/London:20230615T220000
DTSTAMP:20260419T210533
CREATED:20230530T093903Z
LAST-MODIFIED:20230530T093903Z
UID:2207-1686861000-1686866400@www.readingmencap.org.uk
SUMMARY:Performing Arts Club
DESCRIPTION:Performing Arts Club is a lively club\, where members get the chance to sing\, make music and act. £3 per session. \nIf you are interested in joining Performing Arts Club\, please call 0118 966 2518 or email office@readingmencap.org.uk
URL:https://www.readingmencap.org.uk/event/performing-arts-club-10/
LOCATION:21 Alexandra Road\, Reading\, RG1 5PE\, United Kingdom
END:VEVENT
BEGIN:VEVENT
DTSTART;TZID=Europe/London:20230609T120000
DTEND;TZID=Europe/London:20230609T160000
DTSTAMP:20260419T210533
CREATED:20230504T145514Z
LAST-MODIFIED:20230511T071248Z
UID:2112-1686312000-1686326400@www.readingmencap.org.uk
SUMMARY:Meet Your Local Solicitor
DESCRIPTION:Future planning for the whole family with Dexter Montague \nFree presentation\, Q&A session and 1:1 slots with a qualified solicitor \nDoes someone in your family have a disability? \nDo you have questions about Wills\, Trusts\, Care Costs\, Powers of Attorney or other legal matters? \nWe are excited to welcome Ruth Bailey from Dexter Montague Solicitors who specialises in advising people with disabilities and their families.  Ruth has extensive experience in court of protection matters\, wills\, taxation\, and inheritance alongside a particular interest in capacity\, clear communication\, person centred lifetime planning and specialist trusts.  Ruth is passionate that we all have access to the right legal resources individual to each and every one of us. \nRuth qualified as a solicitor more than 10 years ago and joined Dexter Montague in 2021.  Dexter Montague is a firm with a clear professional ethos which seeks to balance the business of providing legal services with the vocational role of lawyers serving their community.  Ruth chose her career in law while she was working for a regional charity as a ‘lay advocate’ for people with learning disability labels and she is pleased to continue to empower people and their families within a community minded\, user friendly\, law firm. \nTo register and/or book a 1:1 slot between 12 noon and 3pm\, please use our online registration form or call 0118 966 2518. \nThere will be free tea\, coffee and cake! \n 
URL:https://www.readingmencap.org.uk/event/meet-your-local-solicitor/
LOCATION:Biscuit Tin Room\, The Biscuit Factory\, 1 Queens Walk\, Reading\, RG1 7QE
CATEGORIES:Carers
END:VEVENT
BEGIN:VEVENT
DTSTART;TZID=Europe/London:20230608T203000
DTEND;TZID=Europe/London:20230608T220000
DTSTAMP:20260419T210533
CREATED:20230530T093431Z
LAST-MODIFIED:20230530T093431Z
UID:2200-1686256200-1686261600@www.readingmencap.org.uk
SUMMARY:Performing Arts Club
DESCRIPTION:Performing Arts Club is a lively club\, where members get the chance to sing\, make music and act. \nIf you are interested in joining Performing Arts Club\, please call 0118 966 2518 or email office@readingmencap.org.uk
URL:https://www.readingmencap.org.uk/event/performing-arts-club-8/
LOCATION:21 Alexandra Road\, Reading\, RG1 5PE\, United Kingdom
END:VEVENT
BEGIN:VEVENT
DTSTART;TZID=Europe/London:20230608T103000
DTEND;TZID=Europe/London:20230608T114500
DTSTAMP:20260419T210533
CREATED:20230509T100945Z
LAST-MODIFIED:20230509T102041Z
UID:2141-1686220200-1686224700@www.readingmencap.org.uk
SUMMARY:Manicure\, pedicure or facial treatments at Reading College
DESCRIPTION:We are delighted to have teamed up with hair and beauty students at Reading College who are kindly offering complimentary pampering treatments to local carers to celebrate Carers Week. \nTake some time off for yourself and enjoy a manicure\, pedicure or facial in the college’s training salon. \nAppointments for 1 hour treatments are available at 9.30am and 10.45am. To book a place please email communications@readingmenap.org.uk or call 0118 966 2518. Please indicate which treatment you would like to book.
URL:https://www.readingmencap.org.uk/event/manicure-pedicure-or-facial-treatments-at-reading-college/
LOCATION:Reading College\, Kings Road\, Reading\, RG1 4HJ
CATEGORIES:Carers
END:VEVENT
BEGIN:VEVENT
DTSTART;TZID=Europe/London:20230607T200000
DTEND;TZID=Europe/London:20230607T220000
DTSTAMP:20260419T210533
CREATED:20230509T092927Z
LAST-MODIFIED:20230509T093345Z
UID:2131-1686168000-1686175200@www.readingmencap.org.uk
SUMMARY:Mad Hatters Pottery Session
DESCRIPTION:Come and join us for an evening of creativity and chat! \nWe’ve hired a takeaway set of pottery\, paints\, brushes and other goodies from Mad Hatters and will be taking them to a venue at Brock Barracks\, Oxford Road\, Reading. \nOnce we’ve finished creating our ceramic masterpieces we’ll enjoy a light buffet. \nThanks to the John Sykes Foundation\, this is free to carers. To book a space\, please email communications@readingmencap.org.uk or call 0118 966 2518.
URL:https://www.readingmencap.org.uk/event/2131/
LOCATION:Brock Barracks\, Oxford Road\, Readnig\, Berkshire\, RG30 1HW\, United Kingdom
END:VEVENT
BEGIN:VEVENT
DTSTART;TZID=Europe/London:20230607T110000
DTEND;TZID=Europe/London:20230607T150000
DTSTAMP:20260419T210533
CREATED:20230518T101314Z
LAST-MODIFIED:20230518T101314Z
UID:2173-1686135600-1686150000@www.readingmencap.org.uk
SUMMARY:Learning Disability Annual Health Checks Event
DESCRIPTION:Come and meet Dr Heather Howells our friendly GP Learning Disability Lead in West Berkshire. \nDo you have a learning disability\, are over the age of 14\, and have never had an Annual Health Check before? \n\nChat to our Learning Disability Lead and find out all about the check\nLearn how to get on your GP Learning Disability Register\nGet your blood pressure checked\nFind out about other health-screening services\nTalk about what reasonable adjustments you need to attend the check\nMeet Helen\, Reading Mencap’s friendly Health Family Adviser.\n\nNo need to book – just drop by.
URL:https://www.readingmencap.org.uk/event/learning-disability-annual-health-checks-event/
LOCATION:Broad Street Mall\, Reading\, RG1 7QF
CATEGORIES:Carers,Learning Disability
END:VEVENT
BEGIN:VEVENT
DTSTART;TZID=Europe/London:20230607T110000
DTEND;TZID=Europe/London:20230607T150000
DTSTAMP:20260419T210533
CREATED:20230510T095433Z
LAST-MODIFIED:20230512T092211Z
UID:2160-1686135600-1686150000@www.readingmencap.org.uk
SUMMARY:Information & Advice Drop-in
DESCRIPTION:Come and join us in Broad Street Mall and find out about services that can support you in your role as a carer. \nIn attendance will be: \n\nReading Mencap\nAge UK Reading\nCommuniCare\nAutism Berkshire\nRoyal Berkshire Hospital – carers services\nReading Community Welfare Rights\nCitizens Advice\nChange\, Grow\, Live\, Drug & Alcohol Srvice\nACRE Alafia\nAge UK Berkshire\nReading Borough Council – public health information
URL:https://www.readingmencap.org.uk/event/information-advice-drop-in/
LOCATION:Broad Street Mall\, Reading\, RG1 7QF
END:VEVENT
BEGIN:VEVENT
DTSTART;TZID=Europe/London:20230606T130000
DTEND;TZID=Europe/London:20230606T150000
DTSTAMP:20260419T210533
CREATED:20230509T083317Z
LAST-MODIFIED:20230509T085614Z
UID:2117-1686056400-1686063600@www.readingmencap.org.uk
SUMMARY:Asian-themed lunch to celebrate Carers Week
DESCRIPTION:Celebrate Carers Week in style and join us for an Asian-themed lunch onboard Whittington’s Tea Barge. \nWe will have exclusive use of the barge and will be enjoying 3 courses: \nStarter: Japanese style Dumplings \nMain: Sweet & Sour Chicken and Rice \nDessert: Whittington’s much loved homemade cakes \nOur special guest will be our patron\, Sir John Madejski. \nCost: £5 per carer. To buy a ticket and to book your place\, please visit our online shop \n  \n \n 
URL:https://www.readingmencap.org.uk/event/asian-themed-lunch-to-celebrate-carers-week/
LOCATION:Whittington’s Tea Barge\, Hills Meadow\, Reading\, RG4 8DH
END:VEVENT
BEGIN:VEVENT
DTSTART;TZID=Europe/London:20230605T130000
DTEND;TZID=Europe/London:20230605T143000
DTSTAMP:20260419T210533
CREATED:20230509T091643Z
LAST-MODIFIED:20230509T093508Z
UID:2124-1685970000-1685975400@www.readingmencap.org.uk
SUMMARY:Get Crafty at Mad Hatters Pottery
DESCRIPTION:Celebrate Carers Week in a tea party atmosphere while getting creative at Mad Hatters Pottery Studio. \nWe will be creating our pottery masterpieces and then enjoying a cup of tea or coffee and a cake. \nThanks to the John Sykes Foundation\, this is free to carers. To book a space\, please email communications@readingmencap.org.uk or call 0118 966 2518. \n 
URL:https://www.readingmencap.org.uk/event/get-crafty-at-mad-hatters-pottery/
LOCATION:Mad Hatters Pottery Cafe\, 114-116 School Road\, Tilehurst\, RG31 5AX
END:VEVENT
BEGIN:VEVENT
DTSTART;TZID=Europe/London:20230601T203000
DTEND;TZID=Europe/London:20230601T220000
DTSTAMP:20260419T210533
CREATED:20230530T091029Z
LAST-MODIFIED:20230530T091029Z
UID:2198-1685651400-1685656800@www.readingmencap.org.uk
SUMMARY:Performing Arts Club
DESCRIPTION:Performing Arts Club is a lively club\, where members get the chance to sing\, make music and act. \nIf you are interested in joining Performing Arts Club\, please call 0118 966 2518 or email office@readingmencap.org.uk
URL:https://www.readingmencap.org.uk/event/performing-arts-club-3/
LOCATION:21 Alexandra Road\, Reading\, RG1 5PE\, United Kingdom
END:VEVENT
BEGIN:VEVENT
DTSTART;TZID=Europe/London:20230530T203000
DTEND;TZID=Europe/London:20230530T220000
DTSTAMP:20260419T210533
CREATED:20230530T093614Z
LAST-MODIFIED:20230530T093614Z
UID:2202-1685478600-1685484000@www.readingmencap.org.uk
SUMMARY:Performing Arts Club
DESCRIPTION:Performing Arts Club is a lively club\, where members get the chance to sing\, make music and act. \nIf you are interested in joining Performing Arts Club\, please call 0118 966 2518 or email office@readingmencap.org.uk
URL:https://www.readingmencap.org.uk/event/performing-arts-club-9/
LOCATION:21 Alexandra Road\, Reading\, RG1 5PE\, United Kingdom
END:VEVENT
BEGIN:VEVENT
DTSTART;TZID=Europe/London:20230525T203000
DTEND;TZID=Europe/London:20230525T223000
DTSTAMP:20260419T210533
CREATED:20230314T150659Z
LAST-MODIFIED:20230314T152018Z
UID:2032-1685046600-1685053800@www.readingmencap.org.uk
SUMMARY:Groovy theme for May's disco
DESCRIPTION:Groovy is the theme for this month’s disco! \nOur discos are hugely popular event and quite lively; dance\, socialise\, play air guitar with karaoke to finish. \nPrice is £3. \nIf you would like more information\, or to attend the disco\, please call 0118 966 2518 or email office@readingmencap.org.uk.
URL:https://www.readingmencap.org.uk/event/2032/
LOCATION:21 Alexandra Road\, Reading\, RG1 5PE\, United Kingdom
END:VEVENT
BEGIN:VEVENT
DTSTART;TZID=Europe/London:20230427T203000
DTEND;TZID=Europe/London:20230427T223000
DTSTAMP:20260419T210533
CREATED:20230314T150227Z
LAST-MODIFIED:20230405T103230Z
UID:2030-1682627400-1682634600@www.readingmencap.org.uk
SUMMARY:Glitter & Glam for April's disco
DESCRIPTION:Glitter & Glam is this month’s disco theme! \nOur discos are hugely popular event and quite lively; sing\, dance and play air guitar with karaoke to finish. \nPrice is £3. \nIf you would like more information\, or to attend the disco\, please call 0118 966 2518 or email office@readingmencap.org.uk.
URL:https://www.readingmencap.org.uk/event/2030/
LOCATION:21 Alexandra Road\, Reading\, RG1 5PE\, United Kingdom
END:VEVENT
BEGIN:VEVENT
DTSTART;TZID=Europe/London:20230413T203000
DTEND;TZID=Europe/London:20230413T220000
DTSTAMP:20260419T210533
CREATED:20230203T140107Z
LAST-MODIFIED:20230206T151458Z
UID:1941-1681417800-1681423200@www.readingmencap.org.uk
SUMMARY:Performing Arts Club
DESCRIPTION:Performing Arts Club is a lively club\, where members get the chance to sing\, make music and act.\n\n\n\n£3 per session. \nIf you are interested in joining Performing Arts Club\, please call 0118 966 2518 or email office@readingmencap.org.uk
URL:https://www.readingmencap.org.uk/event/performing-arts-club-7/
LOCATION:21 Alexandra Road\, Reading\, RG1 5PE\, United Kingdom
CATEGORIES:Learning Disability
END:VEVENT
BEGIN:VEVENT
DTSTART;TZID=Europe/London:20230406T203000
DTEND;TZID=Europe/London:20230406T220000
DTSTAMP:20260419T210533
CREATED:20230203T140017Z
LAST-MODIFIED:20230206T151504Z
UID:1939-1680813000-1680818400@www.readingmencap.org.uk
SUMMARY:Performing Arts Club
DESCRIPTION:Performing Arts Club is a lively club\, where members get the chance to sing\, make music and act.\n\n\n\n£3 per session. \nIf you are interested in joining Performing Arts Club\, please call 0118 966 2518 or email office@readingmencap.org.uk
URL:https://www.readingmencap.org.uk/event/performing-arts-club-6/
LOCATION:21 Alexandra Road\, Reading\, RG1 5PE\, United Kingdom
CATEGORIES:Learning Disability
END:VEVENT
BEGIN:VEVENT
DTSTART;TZID=Europe/London:20230404T201500
DTEND;TZID=Europe/London:20230404T221500
DTSTAMP:20260419T210533
CREATED:20230321T134218Z
LAST-MODIFIED:20230321T135247Z
UID:2052-1680639300-1680646500@www.readingmencap.org.uk
SUMMARY:Gateway Club
DESCRIPTION:Members will be planning what they would like to do for the next term at Gateway Club and dancing. \nGateway Club is a friendly\, lively club for adults with a learning disability\, which gives members the chance to try new activities in a friendly\, supportive environment. \nIf you would like more information or to attend Gateway Club\, please call 0118 966 2518 or email office@readingmencap.org.uk.
URL:https://www.readingmencap.org.uk/event/gateway-club-5/
LOCATION:21 Alexandra Road\, Reading\, RG1 5PE\, United Kingdom
END:VEVENT
BEGIN:VEVENT
DTSTART;TZID=Europe/London:20230328T201500
DTEND;TZID=Europe/London:20230328T221500
DTSTAMP:20260419T210533
CREATED:20230321T133533Z
LAST-MODIFIED:20230321T135433Z
UID:2050-1680034500-1680041700@www.readingmencap.org.uk
SUMMARY:Gateway Club
DESCRIPTION:It’s movie night at Gateway Club. \nGateway Club is a friendly\, lively club for adults with a learning disability\, which gives members the chance to try new activities in a friendly\, supportive environment. \nIf you would like more information or to attend Gateway Club\, please call 0118 966 2518 or email office@readingmencap.org.uk.
URL:https://www.readingmencap.org.uk/event/gateway-club-4/
LOCATION:21 Alexandra Road\, Reading\, RG1 5PE\, United Kingdom
END:VEVENT
BEGIN:VEVENT
DTSTART;TZID=Europe/London:20230316T193000
DTEND;TZID=Europe/London:20230316T210000
DTSTAMP:20260419T210533
CREATED:20230203T135754Z
LAST-MODIFIED:20230203T135754Z
UID:1937-1678995000-1679000400@www.readingmencap.org.uk
SUMMARY:Performing Arts Club
DESCRIPTION:Performing Arts Club is a lively club\, where members get the chance to sing\, make music and act.\n\n\n\n£3 per session. \nIf you are interested in joining Performing Arts Club\, please call 0118 966 2518 or email office@readingmencap.org.uk
URL:https://www.readingmencap.org.uk/event/performing-arts-club-5/
LOCATION:21 Alexandra Road\, Reading\, RG1 5PE\, United Kingdom
END:VEVENT
BEGIN:VEVENT
DTSTART;TZID=Europe/London:20230309T193000
DTEND;TZID=Europe/London:20230309T210000
DTSTAMP:20260419T210533
CREATED:20230203T135710Z
LAST-MODIFIED:20230309T103035Z
UID:1935-1678390200-1678395600@www.readingmencap.org.uk
SUMMARY:Performing Arts Club
DESCRIPTION:Performing Arts is cancelled tonight due to staff illness. Back next week.\nPerforming Arts Club is a lively club\, where members get the chance to sing\, make music and act.\n\n\n\n£3 per session. \nIf you are interested in joining Performing Arts Club\, please call 0118 966 2518 or email office@readingmencap.org.uk
URL:https://www.readingmencap.org.uk/event/performing-arts-club-4/
LOCATION:21 Alexandra Road\, Reading\, RG1 5PE\, United Kingdom
END:VEVENT
BEGIN:VEVENT
DTSTART;TZID=Europe/London:20230228T191500
DTEND;TZID=Europe/London:20230228T211500
DTSTAMP:20260419T210533
CREATED:20230228T142854Z
LAST-MODIFIED:20230228T142854Z
UID:1993-1677611700-1677618900@www.readingmencap.org.uk
SUMMARY:Gateway Club for adults with a learning disability
DESCRIPTION:Gateway Club is a friendly\, lively club for adults with a learning disability. It meets on a Tuesday evening and gives members the chance to try new activities in a friendly\, supportive environment. \nActivities are chosen by the people who attend Gateway Club. Indoor activities\, which take place at our centre in Alexandra Road\, Reading include cooking\, art and crafts\, watching movies and indoor sports – playing pool is a favourite. \nThis session is fish and chips and a movie night. \nThe cost is £3 per session. \nIf you would like more information or to attend Gateway Club\, please call 0118 966 2518 or email office@readingmencap.org.uk.
URL:https://www.readingmencap.org.uk/event/gateway-club-for-adults-with-a-learning-disability/
LOCATION:21 Alexandra Road\, Reading\, RG1 5PE\, United Kingdom
END:VEVENT
BEGIN:VEVENT
DTSTART;TZID=Europe/London:20230216T193000
DTEND;TZID=Europe/London:20230216T210000
DTSTAMP:20260419T210533
CREATED:20230203T135203Z
LAST-MODIFIED:20230203T135401Z
UID:1928-1676575800-1676581200@www.readingmencap.org.uk
SUMMARY:Performing Arts Club
DESCRIPTION:Performing Arts Club is a lively club\, where members get the chance to sing\, make music and act.\n\n\n\n£3 per session. \nIf you are interested in joining Performing Arts Club\, please call 0118 966 2518 or email office@readingmencap.org.uk
URL:https://www.readingmencap.org.uk/event/performing-arts-club-2/
LOCATION:21 Alexandra Road\, Reading\, RG1 5PE\, United Kingdom
END:VEVENT
BEGIN:VEVENT
DTSTART;TZID=Europe/London:20230209T193000
DTEND;TZID=Europe/London:20230209T210000
DTSTAMP:20260419T210533
CREATED:20230203T135012Z
LAST-MODIFIED:20230203T135012Z
UID:1924-1675971000-1675976400@www.readingmencap.org.uk
SUMMARY:Performing Arts Club
DESCRIPTION:Performing Arts Club is returning on Thursday 9 February! \nThis is a lively club\, where members get the chance to sing\, make music and act. \n£3 per session. \nIf you are interested in joining Performing Arts Club\, please call 0118 966 2518 or email office@readingmencap.org.uk
URL:https://www.readingmencap.org.uk/event/performing-arts-club/
LOCATION:21 Alexandra Road\, Reading\, RG1 5PE\, United Kingdom
END:VEVENT
BEGIN:VEVENT
DTSTART;TZID=Europe/London:20230207T191500
DTEND;TZID=Europe/London:20230207T211500
DTSTAMP:20260419T210533
CREATED:20230127T102235Z
LAST-MODIFIED:20230127T135052Z
UID:1907-1675797300-1675804500@www.readingmencap.org.uk
SUMMARY:Gateway Club
DESCRIPTION:It’s the annual pool competition at Gateway Club! \nGateway Club is a friendly\, social weekly club for adults with a learning disability. The cost is £3 per session. \nNew members welcome.  To arrange a taster session\, please call 0118 966 2518 or email office@readingmencap.org.uk email.
URL:https://www.readingmencap.org.uk/event/gateway-club-3/
LOCATION:21 Alexandra Road\, Reading\, RG1 5PE\, United Kingdom
END:VEVENT
BEGIN:VEVENT
DTSTART;TZID=Europe/London:20230206T100000
DTEND;TZID=Europe/London:20230206T130000
DTSTAMP:20260419T210533
CREATED:20230127T103822Z
LAST-MODIFIED:20230127T103822Z
UID:1913-1675677600-1675688400@www.readingmencap.org.uk
SUMMARY:Hear Our Voice
DESCRIPTION:Hear Our Voice is a self-advocacy group\, helping members to learn how to speak up for themselves\, improve their communication skills and gain confidence in expressing what matters to them. \nThe group also encourages members to learn independence skills. There’s also the opportunity to have fun and members enjoy relaxation sessions\, crafts and gardening. \nThis is a free club. New members welcome! \nIf you would like more information or to attend this club\, please call 0118 966 2518 or email office@readingmencap.org.uk.
URL:https://www.readingmencap.org.uk/event/hear-our-voice-2/
LOCATION:Museum of English Rural Life\, 6 Redlands Road\, Reading\, RG1 5EX
END:VEVENT
BEGIN:VEVENT
DTSTART;TZID=Europe/London:20230131T191500
DTEND;TZID=Europe/London:20230131T211500
DTSTAMP:20260419T210533
CREATED:20230127T100903Z
LAST-MODIFIED:20230127T102021Z
UID:1901-1675192500-1675199700@www.readingmencap.org.uk
SUMMARY:Gateway Club
DESCRIPTION:It’s Karaoke night at Gateway Club! \nGateway Club is a friendly\, social weekly club for adults with a learning disability. The cost is £3 per session. \nNew members welcome.  To arrange a taster session\, please call 0118 966 2518 or email office@readingmencap.org.uk email.
URL:https://www.readingmencap.org.uk/event/gateway-club-2/
LOCATION:21 Alexandra Road\, Reading\, RG1 5PE\, United Kingdom
END:VEVENT
BEGIN:VEVENT
DTSTART;TZID=Europe/London:20230130T100000
DTEND;TZID=Europe/London:20230130T130000
DTSTAMP:20260419T210533
CREATED:20230127T103629Z
LAST-MODIFIED:20230127T103629Z
UID:1910-1675072800-1675083600@www.readingmencap.org.uk
SUMMARY:Hear Our Voice
DESCRIPTION:Hear Our Voice is a self-advocacy group\, helping members to learn how to speak up for themselves\, improve their communication skills and gain confidence in expressing what matters to them. \nThe group also encourages members to learn independence skills. There’s also the opportunity to have fun and members enjoy relaxation sessions\, crafts and gardening. \nThis is a free club. New members welcome! \nIf you would like more information or to attend this club\, please call 0118 966 2518 or email office@readingmencap.org.uk.
URL:https://www.readingmencap.org.uk/event/hear-our-voice/
LOCATION:Museum of English Rural Life\, 6 Redlands Road\, Reading\, RG1 5EX
END:VEVENT
BEGIN:VEVENT
DTSTART;TZID=Europe/London:20230110T191500
DTEND;TZID=Europe/London:20230110T211500
DTSTAMP:20260419T210533
CREATED:20230105T141617Z
LAST-MODIFIED:20230105T141701Z
UID:1872-1673378100-1673385300@www.readingmencap.org.uk
SUMMARY:Gateway Club
DESCRIPTION:Gateway Club returns for the New Year with a welcome back party. \nGateway Club is a friendly\, lively club for adults with a learning disability. It meets weekly on a Tuesday evening and gives members the chance to try new activities in a friendly\, supportive environment. \nActivities are chosen by the people who attend the club. Indoor activities\, which take place at our centre in Alexandra Road\, Reading include cooking\, art and crafts\, watching movies and indoor sports – playing pool is a favourite. \nThe club also gets out and about and enjoys trips to the pub\, bowling and rounders in the park. When funding allows there are special events\, such as a trip down the Thames\, a summer BBQ and Christmas party. \nGateway Club meets on a Tuesday evening from 7.15pm – 9.15pm. The cost is £3 per session. \nNew members are welcome. If you would like more information or to attend Gateway Club\, please call 0118 966 2518 or email office@readingmencap.org.uk.
URL:https://www.readingmencap.org.uk/event/gateway-club/
LOCATION:21 Alexandra Road\, Reading\, RG1 5PE\, United Kingdom
ORGANIZER;CN="Reading Mencap":MAILTO:events@readingmencap.org.uk
END:VEVENT
BEGIN:VEVENT
DTSTART;TZID=Europe/London:20221209T193000
DTEND;TZID=Europe/London:20221209T220000
DTSTAMP:20260419T210533
CREATED:20221019T111341Z
LAST-MODIFIED:20221019T111341Z
UID:1729-1670614200-1670623200@www.readingmencap.org.uk
SUMMARY:Christmas Disco
DESCRIPTION:Dust off your festive headgear\, polish your dancing shoes and get ready to have some fun! \nThe much-loved Reading Mencap Christmas is back. \nTickets are £6 each (includes 1 carer or family member). £3 each additional guest. Buy tickets online at our Sumup store. https://reading-mencap.sumupstore.com/…/christmas-disco… Scroll down to purchase either £6 tickets or £3 tickets. \nAlternatively\, book your places by calling the office on 0118 966 2518.
URL:https://www.readingmencap.org.uk/event/christmas-disco/
LOCATION:South Reading Community Centre\, 252 Northumberland Avenue\, Reading\, RG2 7QA\, United Kingdom
END:VEVENT
BEGIN:VEVENT
DTSTART;TZID=Europe/London:20221201T120000
DTEND;TZID=Europe/London:20221201T140000
DTSTAMP:20260419T210533
CREATED:20220913T123352Z
LAST-MODIFIED:20220913T124037Z
UID:1681-1669896000-1669903200@www.readingmencap.org.uk
SUMMARY:Carers' get-together on Whittington's Tea Barge
DESCRIPTION:Unpaid family carers are invited to join us for afternoon tea on Whittington’s Tea Barge. We have exclusive use of the barge\, which is moored on the north bank of the River Thames at Hills Meadow. Please note the barge will remain static. \nIf you do not have any respite for the person you care for\, they are very welcome to join us. There are a couple of steps to navigate but otherwise the barge is accessible. \nWe will also be joined by Helen Luckin\, our new Family Health Adviser\, who you can chat to about her new role supporting patients with learning disabilities to access the health services they need. \nHills Meadow is by Reading Bridge. Parking is available at Hills Meadow car park. \nThis event is free thanks to funding from the Midcounties Co-op. \nTo book\, please call 0118 966 2518 or email Jacqui at communications@readingmencap.org.uk
URL:https://www.readingmencap.org.uk/event/carers-get-together-on-whittingtons-tea-barge/
END:VEVENT
END:VCALENDAR