BEGIN:VCALENDAR
VERSION:2.0
PRODID:-//Reading Mencap - ECPv6.15.20//NONSGML v1.0//EN
CALSCALE:GREGORIAN
METHOD:PUBLISH
X-WR-CALNAME:Reading Mencap
X-ORIGINAL-URL:https://www.readingmencap.org.uk
X-WR-CALDESC:Events for Reading Mencap
REFRESH-INTERVAL;VALUE=DURATION:PT1H
X-Robots-Tag:noindex
X-PUBLISHED-TTL:PT1H
BEGIN:VTIMEZONE
TZID:Europe/London
BEGIN:DAYLIGHT
TZOFFSETFROM:+0000
TZOFFSETTO:+0100
TZNAME:BST
DTSTART:20210328T010000
END:DAYLIGHT
BEGIN:STANDARD
TZOFFSETFROM:+0100
TZOFFSETTO:+0000
TZNAME:GMT
DTSTART:20211031T010000
END:STANDARD
BEGIN:DAYLIGHT
TZOFFSETFROM:+0000
TZOFFSETTO:+0100
TZNAME:BST
DTSTART:20220327T010000
END:DAYLIGHT
BEGIN:STANDARD
TZOFFSETFROM:+0100
TZOFFSETTO:+0000
TZNAME:GMT
DTSTART:20221030T010000
END:STANDARD
BEGIN:DAYLIGHT
TZOFFSETFROM:+0000
TZOFFSETTO:+0100
TZNAME:BST
DTSTART:20230326T010000
END:DAYLIGHT
BEGIN:STANDARD
TZOFFSETFROM:+0100
TZOFFSETTO:+0000
TZNAME:GMT
DTSTART:20231029T010000
END:STANDARD
END:VTIMEZONE
BEGIN:VEVENT
DTSTART;TZID=Europe/London:20220928T123000
DTEND;TZID=Europe/London:20220928T150000
DTSTAMP:20260420T074116
CREATED:20220913T122540Z
LAST-MODIFIED:20220913T123618Z
UID:1677-1664368200-1664377200@www.readingmencap.org.uk
SUMMARY:Flowers & Tea for Carers
DESCRIPTION:Unpaid family carers are invited to  join us for afternoon tea with a difference. \nWe will have the 7 Flowers and Tea room to ourselves and before enjoying a delicious afternoon tea\, you will have the chance to soak in the tranquil atmosphere and learn how to make a miniature floral bouquet to take home. \nThis is a free event for carers thanks to funding from Midcounties Co-op. \nCall 0118 966 2518 or email Jacqui at communications@readingmencap.org.uk to book a place.
URL:https://www.readingmencap.org.uk/event/flowers-tea-for-carers/
END:VEVENT
BEGIN:VEVENT
DTSTART;TZID=Europe/London:20220720T203000
DTEND;TZID=Europe/London:20220720T220000
DTSTAMP:20260420T074116
CREATED:20220701T102255Z
LAST-MODIFIED:20220701T102421Z
UID:1483-1658349000-1658354400@www.readingmencap.org.uk
SUMMARY:Reading Mencap AGM
DESCRIPTION:Our 2022 AGM is being held on Wednesday 20 July at 21 Alexandra Road\, Reading from 7.30pm – 9pm.We will keep the business of the AGM  short and business-like as usual\, so we can celebrate our 60th Anniversary! Refreshments will be served before and after the formal business\, so this will be a great chance to meet up and have a chat. The agenda for the meeting is as follows:Welcome and Introduction – Leslie Macdonald\, Chair of TrusteesChair’s Report – Leslie Macdonald\, Chair of TrusteesMinutes of last AGM – Leslie Macdonald\, Chair of TrusteesAnnual Accounts – Nelson Walters\, TreasurerAppointment of Accountant – Nelson Walters\, TreasurerElection of Trustees – Leslie Macdonald\, Chair of TrusteesAOB – allClose and refreshments. \n 
URL:https://www.readingmencap.org.uk/event/reading-mencap-agm/
LOCATION:21 Alexandra Road\, Reading\, RG1 5PE\, United Kingdom
ATTACH;FMTTYPE=image/png:https://www.readingmencap.org.uk/learning-disability-charity-img/Reading-Mencap-60-Years-Logo-Rectangle.png
END:VEVENT
BEGIN:VEVENT
DTSTART;TZID=Europe/London:20220624T200000
DTEND;TZID=Europe/London:20220624T223000
DTSTAMP:20260420T074116
CREATED:20220419T142411Z
LAST-MODIFIED:20220419T142648Z
UID:1279-1656100800-1656109800@www.readingmencap.org.uk
SUMMARY:Reading Mencap's Double Diamond Celebration
DESCRIPTION:We are marking our 60th anniversary and Her Majesty The Queen’s Platinum Jubilee. \nThe celebration will feature: \nSongs from the Reading Mencap Choir \nDrama from our Performing Arts Club \nRefreshments served. \nPlease email events@readingmencap.org.uk by Friday 13 May stating how many tickets you require.
URL:https://www.readingmencap.org.uk/event/reading-mencaps-double-diamond-celebration/
LOCATION:Carers Information Event\, Broad Street Mall\, Reading\, RG1 7QE\, United Kingdom
ORGANIZER;CN="Reading Mencap":MAILTO:events@readingmencap.org.uk
END:VEVENT
BEGIN:VEVENT
DTSTART;TZID=Europe/London:20220608T130000
DTEND;TZID=Europe/London:20220608T150000
DTSTAMP:20260420T074116
CREATED:20220530T040552Z
LAST-MODIFIED:20220530T040552Z
UID:1434-1654693200-1654700400@www.readingmencap.org.uk
SUMMARY:River trip for carers
DESCRIPTION:Learning disability carers are invited to celebrate Carers Week by joining us for a cream tea cruise on the River Thames on Wednesday 8 June.We will be cruising on the Caversham Lady from 12 noon – 2pm. If you do not have any respite for the person you care for\, they are very welcome to join us. The Caversham Lady is wide\, easy to access and has great views all around as well as a nice open foredeck.The cream tea includes plain and fruit scones\, clotted cream and jam with tea and coffee. Please advise of any dietary requirements when you book.The boarding point is Caversham Pier on the promenade just behind the Crowne Plaza hotel by Caversham Bridge. Access by road is from Richfield Avenue. Best postcode for sat nav users is RG1 8BD. Please arrive at least 15 minutes before departure.To book your place/s\, please call 0118 966 2518 or email communications@readingmencap.org.uk by Wednesday June 1. \nThanks to funding from the National Lottery and Midcounties Co-op\, this event is free of charge.
URL:https://www.readingmencap.org.uk/event/river-trip-for-carers/
END:VEVENT
BEGIN:VEVENT
DTSTART;TZID=Europe/London:20220607T110000
DTEND;TZID=Europe/London:20220607T110000
DTSTAMP:20260420T074116
CREATED:20220527T091744Z
LAST-MODIFIED:20220527T091744Z
UID:1413-1654599600-1654599600@www.readingmencap.org.uk
SUMMARY:Carers Information Event
DESCRIPTION:It’s Carers Week – 6 – 12 June – the annual awareness campaign to bring caring out into the open. \nThis year’s theme is making caring Visible\, Valued and Supported. \nPop along to the Broad Street Mall between 10am – 1.30pm to find out more about services that can help. \nOrganisations in attendance include: \n\nReading Mencap\nReading Borough Council\nBerkshire Vision\nBrighter Futures for Children\nNew Directions College\nRoyal Berkshire Fire & Rescue Service\nReading Community Learning Centre\nCitizens Advice Reading\nAlzheimer’s Society\n\n 
URL:https://www.readingmencap.org.uk/event/carers-information-event/
END:VEVENT
END:VCALENDAR