BEGIN:VCALENDAR
VERSION:2.0
PRODID:-//Reading Mencap - ECPv6.15.20//NONSGML v1.0//EN
CALSCALE:GREGORIAN
METHOD:PUBLISH
X-WR-CALNAME:Reading Mencap
X-ORIGINAL-URL:https://www.readingmencap.org.uk
X-WR-CALDESC:Events for Reading Mencap
REFRESH-INTERVAL;VALUE=DURATION:PT1H
X-Robots-Tag:noindex
X-PUBLISHED-TTL:PT1H
BEGIN:VTIMEZONE
TZID:Europe/London
BEGIN:DAYLIGHT
TZOFFSETFROM:+0000
TZOFFSETTO:+0100
TZNAME:BST
DTSTART:20240331T010000
END:DAYLIGHT
BEGIN:STANDARD
TZOFFSETFROM:+0100
TZOFFSETTO:+0000
TZNAME:GMT
DTSTART:20241027T010000
END:STANDARD
BEGIN:DAYLIGHT
TZOFFSETFROM:+0000
TZOFFSETTO:+0100
TZNAME:BST
DTSTART:20250330T010000
END:DAYLIGHT
BEGIN:STANDARD
TZOFFSETFROM:+0100
TZOFFSETTO:+0000
TZNAME:GMT
DTSTART:20251026T010000
END:STANDARD
BEGIN:DAYLIGHT
TZOFFSETFROM:+0000
TZOFFSETTO:+0100
TZNAME:BST
DTSTART:20260329T010000
END:DAYLIGHT
BEGIN:STANDARD
TZOFFSETFROM:+0100
TZOFFSETTO:+0000
TZNAME:GMT
DTSTART:20261025T010000
END:STANDARD
END:VTIMEZONE
BEGIN:VEVENT
DTSTART;TZID=Europe/London:20251007T191500
DTEND;TZID=Europe/London:20251007T211500
DTSTAMP:20260422T222636
CREATED:20250919T130521Z
LAST-MODIFIED:20250919T130521Z
UID:4064-1759864500-1759871700@www.readingmencap.org.uk
SUMMARY:Gateway Club
DESCRIPTION:It’s Bowling Night! \nGateway Club is a friendly\, lively social club for adults with a learning disability\, which gives members the chance to try new activities in a friendly\, supportive environment. \nActivities are chosen by the people who attend Gateway Club. Indoor activities\, which take place at our centre in Alexandra Road\, Reading include cooking\, art and crafts\, watching movies and indoor sports – playing pool is a favourite. \nThe club also gets out and about and enjoys trips to the pub\, bowling and rounders in the park. When funding allows there are special events\, such as a trip down the Thames\, a summer BBQ and Christmas party. \nGateway Club meets on a Tuesday evening from 7.15pm – 9.15pm. The cost is £3 per session. \nIf you would like more information or to attend Gateway Club\, please call 0118 966 2518 or email office@readingmencap.org.uk.
URL:https://www.readingmencap.org.uk/event/gateway-club-35/
LOCATION:21 Alexandra Road\, Reading\, RG1 5PE\, United Kingdom
ATTACH;FMTTYPE=image/jpeg:https://www.readingmencap.org.uk/learning-disability-charity-img/gateway-bowling-1.jpg
END:VEVENT
BEGIN:VEVENT
DTSTART;TZID=Europe/London:20251014T191500
DTEND;TZID=Europe/London:20251014T211500
DTSTAMP:20260422T222636
CREATED:20250919T131107Z
LAST-MODIFIED:20250919T131240Z
UID:4067-1760469300-1760476500@www.readingmencap.org.uk
SUMMARY:Gateway Club
DESCRIPTION:Members of Gateway Club will be crafting scary decorations for Halloween at this week’s session. \nGateway Club is a friendly\, lively social club for adults with a learning disability\, which gives members the chance to try new activities in a friendly\, supportive environment. \nActivities are chosen by the people who attend Gateway Club. Indoor activities\, which take place at our centre in Alexandra Road\, Reading include cooking\, art and crafts\, watching movies and indoor sports – playing pool is a favourite. \nThe club also gets out and about and enjoys trips to the pub\, bowling and rounders in the park. When funding allows there are special events\, such as a trip down the Thames\, a summer BBQ and Christmas party. \nGateway Club meets on a Tuesday evening from 7.15pm – 9.15pm. The cost is £3 per session. \nIf you would like more information or to attend Gateway Club\, please call 0118 966 2518 or email office@readingmencap.org.uk.
URL:https://www.readingmencap.org.uk/event/4067/
LOCATION:21 Alexandra Road\, Reading\, RG1 5PE\, United Kingdom
ATTACH;FMTTYPE=image/jpeg:https://www.readingmencap.org.uk/learning-disability-charity-img/halloween-craft-1.jpg
END:VEVENT
BEGIN:VEVENT
DTSTART;TZID=Europe/London:20251016T103000
DTEND;TZID=Europe/London:20251016T123000
DTSTAMP:20260422T222636
CREATED:20250919T140543Z
LAST-MODIFIED:20250919T140543Z
UID:4078-1760610600-1760617800@www.readingmencap.org.uk
SUMMARY:Carers Get Together
DESCRIPTION:Are you looking after someone who cannot manage without your  help? \nJoin the Carers Partnership at one of our get togethers and take some time out for yourself. \n\nEnjoy a cuppa and a chat with people in a similar situation\nGet information and advice\nFriendly\, safe space to talk openly\n\n10.30am – 12.30pm \nSimply drop in to the Atrium Coffee Shop\, Greyfriars Church\, Friar Street\, Reading RG1 1EH. \nContact Lesley at Reading Mencap on 0118 966 2518 or email carers@readingmencap.org.uk 
URL:https://www.readingmencap.org.uk/event/carers-get-together-9/
LOCATION:Atrium Coffee Shop\, Greyfriars Church\, Friar Street\, Reading\, RG1 1EH\, United Kingdom
ATTACH;FMTTYPE=image/jpeg:https://www.readingmencap.org.uk/learning-disability-charity-img/carers-get-together-2.jpg
END:VEVENT
BEGIN:VEVENT
DTSTART;TZID=Europe/London:20251017T190000
DTEND;TZID=Europe/London:20251017T220000
DTSTAMP:20260422T222636
CREATED:20250923T104429Z
LAST-MODIFIED:20250923T105227Z
UID:4091-1760727600-1760738400@www.readingmencap.org.uk
SUMMARY:Charity Quiz Night
DESCRIPTION:Fancy a night of trivia\, good food and great company? \nJoin us for the Reading Mencap Charity Quiz Night and help make a difference for people with learning disabilities and their families. \nWhen: Friday 17 October at 7 pm \nWhere: Reading Rugby Club\, Holme Park\, Sonning RG4 6ST \nTickets: £15 per person\, includes chicken and chips (vegan option available). \nTeams: Up to 6 people. All welcome! \nEvery ticket sold supports our vital work. So\, grab your family and friends\, brush up on your trivia and get ready for a memorable night! \nBook your tickets now: https://reading-mencap.sumupstore.com/product/quiz-night-ticket \nImportant: You will be emailed digital tickets. For allergies or dietary requirements\, please email events@readingmencap.org.uk
URL:https://www.readingmencap.org.uk/event/charity-quiz-night/
LOCATION:Reading Rugby Club\, Holme Park\, Sonning\, RG4 6ST
ATTACH;FMTTYPE=image/jpeg:https://www.readingmencap.org.uk/learning-disability-charity-img/Reading-Mencap-Quiz-Flyer-Oct-25-Final.jpg
END:VEVENT
BEGIN:VEVENT
DTSTART;TZID=Europe/London:20251021T191500
DTEND;TZID=Europe/London:20251021T211500
DTSTAMP:20260422T222636
CREATED:20250919T132550Z
LAST-MODIFIED:20250919T132550Z
UID:4071-1761074100-1761081300@www.readingmencap.org.uk
SUMMARY:Gateway Club
DESCRIPTION:It’s a fish and chip supper and a movie for Gateway Club tonight. \nGateway Club is a friendly\, lively social club for adults with a learning disability\, which gives members the chance to try new activities in a friendly\, supportive environment. \nActivities are chosen by the people who attend Gateway Club. Indoor activities\, which take place at our centre in Alexandra Road\, Reading include cooking\, art and crafts\, watching movies and indoor sports – playing pool is a favourite. \nThe club also gets out and about and enjoys trips to the pub\, bowling and rounders in the park. When funding allows there are special events\, such as a trip down the Thames\, a summer BBQ and Christmas party. \nGateway Club meets on a Tuesday evening from 7.15pm – 9.15pm. The cost is £3 per session. \nIf you would like more information or to attend Gateway Club\, please call 0118 966 2518 or email office@readingmencap.org.uk.
URL:https://www.readingmencap.org.uk/event/gateway-club-36/
ATTACH;FMTTYPE=image/jpeg:https://www.readingmencap.org.uk/learning-disability-charity-img/fish-and-chips.jpg
END:VEVENT
BEGIN:VEVENT
DTSTART;TZID=Europe/London:20251023T063000
DTEND;TZID=Europe/London:20251024T200000
DTSTAMP:20260422T222636
CREATED:20250926T111641Z
LAST-MODIFIED:20250926T115403Z
UID:4098-1761201000-1761336000@www.readingmencap.org.uk
SUMMARY:2025 AGM
DESCRIPTION:Our 2025 AGM is being held on Thursday 23 October at 21 Alexandra Road\, Reading at 6.30pm. \nThe business of the AGM will be short and business-like as usual\, after which there will be light refreshments and the chance to catch up with friends. \nThe agenda for the meeting is as follows: \nWelcome and Introduction – Zoe Ridout\, Chair of Trustees\nMinutes of last AGM – Zoe Ridout\, Chair of Trustees\nChair’s Report – Zoe Ridout\, Chair of Trustees\nAnnual Accounts – Jim Allpass\, Treasurer\nAppointment of Accountant – Jim Allpass\, Treasurer\nElection of Trustees – Zoe Ridout\, Chair of Trustees\nSnapshot of the Year – Management Team\nAOB – all\nVolunteer Awards – Abbi Chambers\, Clubs Manager\nClose and refreshments. \nNiru Subramanian and Satjinder Jabana-Wilson are standing for election as new Trustees. \nPlease confirm your attendance by emailing office@readingmencap.org.uk or by calling 0118 966 2518.
URL:https://www.readingmencap.org.uk/event/2025-agm/
LOCATION:21 Alexandra Road\, Reading\, RG1 5PE\, United Kingdom
ATTACH;FMTTYPE=image/jpeg:https://www.readingmencap.org.uk/learning-disability-charity-img/annual-general-meeting.jpg
END:VEVENT
BEGIN:VEVENT
DTSTART;TZID=Europe/London:20251028T191500
DTEND;TZID=Europe/London:20251028T211500
DTSTAMP:20260422T222636
CREATED:20250919T133805Z
LAST-MODIFIED:20250919T133805Z
UID:4074-1761678900-1761686100@www.readingmencap.org.uk
SUMMARY:Gateway Club
DESCRIPTION:It’s Halloween Party night! \nGateway Club is a friendly\, lively social club for adults with a learning disability. It meets on a Tuesday evening and gives members the chance to try new activities in a friendly\, supportive environment. \nActivities are chosen by the people who attend Gateway Club. Indoor activities\, which take place at our centre in Alexandra Road\, Reading include cooking\, art and crafts\, watching movies and indoor sports – playing pool is a favourite. \nThe club also gets out and about and enjoys trips to the pub\, bowling and rounders in the park. When funding allows there are special events\, such as a trip down the Thames\, a summer BBQ and Christmas party. \nGateway Club meets on a Tuesday evening from 7.15pm – 9.15pm. The cost is £3 per session. \nIf you would like more information or to attend Gateway Club\, please call 0118 966 2518 or email office@readingmencap.org.uk.
URL:https://www.readingmencap.org.uk/event/gateway-club-37/
LOCATION:21 Alexandra Road\, Reading\, RG1 5PE\, United Kingdom
ATTACH;FMTTYPE=image/jpeg:https://www.readingmencap.org.uk/learning-disability-charity-img/gateway-halloween.jpg
END:VEVENT
END:VCALENDAR